Package: tximport Version: 1.34.0 Command: /Library/Frameworks/R.framework/Resources/bin/R CMD check --install=check:tximport.install-out.txt --library=/Library/Frameworks/R.framework/Resources/library --no-vignettes --timings tximport_1.34.0.tar.gz StartedAt: 2025-02-05 13:41:28 -0500 (Wed, 05 Feb 2025) EndedAt: 2025-02-05 13:44:06 -0500 (Wed, 05 Feb 2025) EllapsedTime: 158.7 seconds RetCode: 0 Status: OK CheckDir: tximport.Rcheck Warnings: 0