Package: tximport Version: 1.34.0 Command: rm -rf tximport.buildbin-libdir && mkdir tximport.buildbin-libdir && /Users/biocbuild/BBS/utils/build-universal.sh tximport_1.34.0.tar.gz /Library/Frameworks/R.framework/Resources/bin/R tximport.buildbin-libdir StartedAt: 2025-01-31 13:54:04 -0500 (Fri, 31 Jan 2025) EndedAt: 2025-01-31 13:54:10 -0500 (Fri, 31 Jan 2025) EllapsedTime: 6.4 seconds RetCode: 0 Status: OK PackageFile: tximport_1.34.0.tgz PackageFileSize: 352.9 KiB