Package: tximport Version: 1.34.0 Command: /home/biocbuild/bbs-3.20-bioc/R/bin/R CMD check --install=check:tximport.install-out.txt --library=/home/biocbuild/bbs-3.20-bioc/R/site-library --timings tximport_1.34.0.tar.gz StartedAt: 2025-02-04 03:26:02 -0500 (Tue, 04 Feb 2025) EndedAt: 2025-02-04 03:28:27 -0500 (Tue, 04 Feb 2025) EllapsedTime: 145.1 seconds RetCode: 0 Status: OK CheckDir: tximport.Rcheck Warnings: 0