Package: uSORT Version: 1.32.0 Command: /Library/Frameworks/R.framework/Resources/bin/R CMD build --keep-empty-dirs --no-resave-data uSORT StartedAt: 2024-11-19 19:03:20 -0500 (Tue, 19 Nov 2024) EndedAt: 2024-11-19 19:04:05 -0500 (Tue, 19 Nov 2024) EllapsedTime: 45.4 seconds RetCode: 0 Status: OK PackageFile: uSORT_1.32.0.tar.gz PackageFileSize: 2.814 <A href="http://en.wikipedia.org/wiki/MiB" target="_blank">MiB</A>