Package: uSORT Version: 1.32.0 Command: rm -rf uSORT.buildbin-libdir && mkdir uSORT.buildbin-libdir && /Users/biocbuild/BBS/utils/build-universal.sh uSORT_1.32.0.tar.gz /Library/Frameworks/R.framework/Resources/bin/R uSORT.buildbin-libdir StartedAt: 2025-01-31 13:54:19 -0500 (Fri, 31 Jan 2025) EndedAt: 2025-01-31 13:55:17 -0500 (Fri, 31 Jan 2025) EllapsedTime: 58.6 seconds RetCode: 0 Status: OK PackageFile: uSORT_1.32.0.tgz PackageFileSize: 1.972 MiB