Package: uSORT Version: 1.32.0 Command: /Library/Frameworks/R.framework/Resources/bin/R CMD check --install=check:uSORT.install-out.txt --library=/Library/Frameworks/R.framework/Resources/library --no-vignettes --timings uSORT_1.32.0.tar.gz StartedAt: 2025-02-04 11:44:03 -0500 (Tue, 04 Feb 2025) EndedAt: 2025-02-04 11:51:21 -0500 (Tue, 04 Feb 2025) EllapsedTime: 437.1 seconds RetCode: 0 Status: WARNINGS CheckDir: uSORT.Rcheck Warnings: 1