Package: uSORT Version: 1.32.0 Command: rm -rf uSORT.buildbin-libdir && mkdir uSORT.buildbin-libdir && F:\biocbuild\bbs-3.20-bioc\R\bin\R.exe CMD INSTALL --build --library=uSORT.buildbin-libdir uSORT_1.32.0.tar.gz StartedAt: 2025-02-04 09:44:33 -0500 (Tue, 04 Feb 2025) EndedAt: 2025-02-04 09:45:08 -0500 (Tue, 04 Feb 2025) EllapsedTime: 34.4 seconds RetCode: 0 Status: OK PackageFile: uSORT_1.32.0.zip PackageFileSize: 1.967 MiB