Package: uSORT Version: 1.32.0 Command: F:\biocbuild\bbs-3.20-bioc\R\bin\R.exe CMD check --no-multiarch --install=check:uSORT.install-out.txt --library=F:\biocbuild\bbs-3.20-bioc\R\library --no-vignettes --timings uSORT_1.32.0.tar.gz StartedAt: 2025-02-04 07:23:17 -0500 (Tue, 04 Feb 2025) EndedAt: 2025-02-04 07:26:15 -0500 (Tue, 04 Feb 2025) EllapsedTime: 178.2 seconds RetCode: 0 Status: WARNINGS CheckDir: uSORT.Rcheck Warnings: 1