Package: uncoverappLib Version: 1.16.0 Command: /Library/Frameworks/R.framework/Resources/bin/R CMD check --install=check:uncoverappLib.install-out.txt --library=/Library/Frameworks/R.framework/Resources/library --no-vignettes --timings uncoverappLib_1.16.0.tar.gz StartedAt: 2025-02-05 13:45:56 -0500 (Wed, 05 Feb 2025) EndedAt: 2025-02-05 13:53:35 -0500 (Wed, 05 Feb 2025) EllapsedTime: 459.5 seconds RetCode: 0 Status: OK CheckDir: uncoverappLib.Rcheck Warnings: 0