Package: uncoverappLib Version: 1.16.0 Command: /home/biocbuild/bbs-3.20-bioc/R/bin/R CMD build --keep-empty-dirs --no-resave-data --md5 uncoverappLib StartedAt: 2025-02-03 19:44:23 -0500 (Mon, 03 Feb 2025) EndedAt: 2025-02-03 19:45:39 -0500 (Mon, 03 Feb 2025) EllapsedTime: 76.1 seconds RetCode: 0 Status: OK PackageFile: uncoverappLib_1.16.0.tar.gz PackageFileSize: 3.432 MiB