Package: uncoverappLib Version: 1.16.0 Command: /home/biocbuild/R/R/bin/R CMD INSTALL uncoverappLib StartedAt: 2025-02-03 21:19:46 -0000 (Mon, 03 Feb 2025) EndedAt: 2025-02-03 21:20:58 -0000 (Mon, 03 Feb 2025) EllapsedTime: 72.0 seconds RetCode: 0 Status: OK