Package: unifiedWMWqPCR Version: 1.42.0 Command: /Library/Frameworks/R.framework/Resources/bin/R CMD build --keep-empty-dirs --no-resave-data unifiedWMWqPCR StartedAt: 2025-02-04 10:14:28 -0500 (Tue, 04 Feb 2025) EndedAt: 2025-02-04 10:14:45 -0500 (Tue, 04 Feb 2025) EllapsedTime: 17.0 seconds RetCode: 0 Status: OK PackageFile: unifiedWMWqPCR_1.42.0.tar.gz PackageFileSize: 501.7 KiB