Package: unifiedWMWqPCR Version: 1.42.0 Command: /Library/Frameworks/R.framework/Resources/bin/R CMD check --install=check:unifiedWMWqPCR.install-out.txt --library=/Library/Frameworks/R.framework/Resources/library --no-vignettes --timings unifiedWMWqPCR_1.42.0.tar.gz StartedAt: 2025-02-05 13:46:42 -0500 (Wed, 05 Feb 2025) EndedAt: 2025-02-05 13:47:25 -0500 (Wed, 05 Feb 2025) EllapsedTime: 43.7 seconds RetCode: 0 Status: OK CheckDir: unifiedWMWqPCR.Rcheck Warnings: 0