Package: unifiedWMWqPCR
Version: 1.42.0
Command: /Library/Frameworks/R.framework/Resources/bin/R CMD check --install=check:unifiedWMWqPCR.install-out.txt --library=/Library/Frameworks/R.framework/Resources/library --no-vignettes --timings unifiedWMWqPCR_1.42.0.tar.gz
StartedAt: 2024-11-09 15:57:34 -0500 (Sat, 09 Nov 2024)
EndedAt: 2024-11-09 16:01:32 -0500 (Sat, 09 Nov 2024)
EllapsedTime: 237.4 seconds
RetCode: 0
Status: OK
CheckDir: unifiedWMWqPCR.Rcheck
Warnings: 0