Package: unifiedWMWqPCR Version: 1.42.0 Command: rm -rf unifiedWMWqPCR.buildbin-libdir && mkdir unifiedWMWqPCR.buildbin-libdir && /Users/biocbuild/BBS/utils/build-universal.sh unifiedWMWqPCR_1.42.0.tar.gz /Library/Frameworks/R.framework/Resources/bin/R unifiedWMWqPCR.buildbin-libdir StartedAt: 2025-01-31 13:54:10 -0500 (Fri, 31 Jan 2025) EndedAt: 2025-01-31 13:54:22 -0500 (Fri, 31 Jan 2025) EllapsedTime: 12.3 seconds RetCode: 0 Status: OK PackageFile: unifiedWMWqPCR_1.42.0.tgz PackageFileSize: 732.5 KiB