Package: unifiedWMWqPCR Version: 1.42.0 Command: /Library/Frameworks/R.framework/Resources/bin/R CMD INSTALL unifiedWMWqPCR StartedAt: 2025-02-03 15:17:59 -0500 (Mon, 03 Feb 2025) EndedAt: 2025-02-03 15:18:25 -0500 (Mon, 03 Feb 2025) EllapsedTime: 25.5 seconds RetCode: 0 Status: OK