Package: unifiedWMWqPCR Version: 1.42.0 Command: /home/biocbuild/R/R/bin/R CMD build --keep-empty-dirs --no-resave-data unifiedWMWqPCR StartedAt: 2025-02-04 03:45:20 -0000 (Tue, 04 Feb 2025) EndedAt: 2025-02-04 03:45:36 -0000 (Tue, 04 Feb 2025) EllapsedTime: 16.0 seconds RetCode: 0 Status: OK PackageFile: unifiedWMWqPCR_1.42.0.tar.gz PackageFileSize: 492.8 KiB