Package: unifiedWMWqPCR Version: 1.42.0 Command: /home/biocbuild/R/R/bin/R CMD INSTALL unifiedWMWqPCR StartedAt: 2025-02-03 20:26:34 -0000 (Mon, 03 Feb 2025) EndedAt: 2025-02-03 20:26:58 -0000 (Mon, 03 Feb 2025) EllapsedTime: 24.2 seconds RetCode: 0 Status: OK