Package: universalmotif Version: 1.24.2 Command: /Library/Frameworks/R.framework/Resources/bin/R CMD build --keep-empty-dirs --no-resave-data universalmotif StartedAt: 2025-02-04 10:15:37 -0500 (Tue, 04 Feb 2025) EndedAt: 2025-02-04 10:20:27 -0500 (Tue, 04 Feb 2025) EllapsedTime: 289.4 seconds RetCode: 0 Status: OK PackageFile: universalmotif_1.24.2.tar.gz PackageFileSize: 3.635 MiB