Package: universalmotif Version: 1.24.2 Command: /home/biocbuild/bbs-3.20-bioc/R/bin/R CMD INSTALL universalmotif StartedAt: 2025-02-03 15:20:11 -0500 (Mon, 03 Feb 2025) EndedAt: 2025-02-03 15:21:55 -0500 (Mon, 03 Feb 2025) EllapsedTime: 103.8 seconds RetCode: 0 Status: OK