Package: universalmotif Version: 1.24.2 Command: rm -rf universalmotif.buildbin-libdir && mkdir universalmotif.buildbin-libdir && F:\biocbuild\bbs-3.20-bioc\R\bin\R.exe CMD INSTALL --build --library=universalmotif.buildbin-libdir universalmotif_1.24.2.tar.gz StartedAt: 2025-02-04 09:44:29 -0500 (Tue, 04 Feb 2025) EndedAt: 2025-02-04 09:47:34 -0500 (Tue, 04 Feb 2025) EllapsedTime: 185.8 seconds RetCode: 0 Status: OK PackageFile: universalmotif_1.24.2.zip PackageFileSize: 5.807 MiB