Package: universalmotif Version: 1.24.2 Command: /home/biocbuild/R/R/bin/R CMD INSTALL universalmotif StartedAt: 2025-02-03 20:30:28 -0000 (Mon, 03 Feb 2025) EndedAt: 2025-02-03 20:33:04 -0000 (Mon, 03 Feb 2025) EllapsedTime: 155.1 seconds RetCode: 0 Status: OK