Package: variancePartition Version: 1.36.3 Command: rm -rf variancePartition.buildbin-libdir && mkdir variancePartition.buildbin-libdir && /Users/biocbuild/BBS/utils/build-universal.sh variancePartition_1.36.3.tar.gz /Library/Frameworks/R.framework/Resources/bin/R variancePartition.buildbin-libdir StartedAt: 2025-02-05 18:14:13 -0500 (Wed, 05 Feb 2025) EndedAt: 2025-02-05 18:14:35 -0500 (Wed, 05 Feb 2025) EllapsedTime: 22.4 seconds RetCode: 0 Status: OK PackageFile: variancePartition_1.36.3.tgz PackageFileSize: 5.109 MiB