Package: variancePartition Version: 1.36.3 Command: /Library/Frameworks/R.framework/Resources/bin/R CMD check --install=check:variancePartition.install-out.txt --library=/Library/Frameworks/R.framework/Resources/library --no-vignettes --timings variancePartition_1.36.3.tar.gz StartedAt: 2025-02-05 13:52:51 -0500 (Wed, 05 Feb 2025) EndedAt: 2025-02-05 14:01:50 -0500 (Wed, 05 Feb 2025) EllapsedTime: 539.2 seconds RetCode: 0 Status: OK CheckDir: variancePartition.Rcheck Warnings: 0