Package: variancePartition
Version: 1.36.3
Command: /Library/Frameworks/R.framework/Resources/bin/R CMD INSTALL variancePartition
StartedAt: 2025-02-17 15:50:13 -0500 (Mon, 17 Feb 2025)
EndedAt: 2025-02-17 15:50:35 -0500 (Mon, 17 Feb 2025)
EllapsedTime: 22.3 seconds
RetCode: 0
Status: OK