Package: variancePartition Version: 1.36.3 Command: /Library/Frameworks/R.framework/Resources/bin/R CMD build --keep-empty-dirs --no-resave-data variancePartition StartedAt: 2025-02-03 23:07:25 -0500 (Mon, 03 Feb 2025) EndedAt: 2025-02-03 23:27:02 -0500 (Mon, 03 Feb 2025) EllapsedTime: 1177.2 seconds RetCode: 0 Status: OK PackageFile: variancePartition_1.36.3.tar.gz PackageFileSize: 4.983 MiB