Package: variancePartition Version: 1.36.3 Command: /Library/Frameworks/R.framework/Resources/bin/R CMD INSTALL variancePartition StartedAt: 2025-02-03 15:33:20 -0500 (Mon, 03 Feb 2025) EndedAt: 2025-02-03 15:34:06 -0500 (Mon, 03 Feb 2025) EllapsedTime: 46.0 seconds RetCode: 0 Status: OK