Package: variancePartition
Version: 1.35.1
Command: F:\biocbuild\bbs-3.20-bioc\R\bin\R.exe CMD check --no-multiarch --install=check:variancePartition.install-out.txt --library=F:\biocbuild\bbs-3.20-bioc\R\library --no-vignettes --timings variancePartition_1.35.1.tar.gz
StartedAt: 2024-06-10 11:51:33 -0400 (Mon, 10 Jun 2024)
EndedAt: 2024-06-10 12:08:09 -0400 (Mon, 10 Jun 2024)
EllapsedTime: 996.3 seconds
RetCode: 0
Status: OK
CheckDir: variancePartition.Rcheck
Warnings: 0