Package: variancePartition Version: 1.36.3 Command: /home/biocbuild/R/R/bin/R CMD build --keep-empty-dirs --no-resave-data variancePartition StartedAt: 2025-02-04 03:47:02 -0000 (Tue, 04 Feb 2025) EndedAt: 2025-02-04 04:05:01 -0000 (Tue, 04 Feb 2025) EllapsedTime: 1078.2 seconds RetCode: 0 Status: OK PackageFile: variancePartition_1.36.3.tar.gz PackageFileSize: 4.083 MiB