Package: variancePartition Version: 1.36.3 Command: /home/biocbuild/R/R/bin/R CMD INSTALL variancePartition StartedAt: 2025-02-03 20:35:40 -0000 (Mon, 03 Feb 2025) EndedAt: 2025-02-03 20:36:05 -0000 (Mon, 03 Feb 2025) EllapsedTime: 25.6 seconds RetCode: 0 Status: OK