Package: vbmp Version: 1.74.0 Command: /Library/Frameworks/R.framework/Resources/bin/R CMD build --keep-empty-dirs --no-resave-data vbmp StartedAt: 2025-02-04 10:22:47 -0500 (Tue, 04 Feb 2025) EndedAt: 2025-02-04 10:23:31 -0500 (Tue, 04 Feb 2025) EllapsedTime: 43.6 seconds RetCode: 0 Status: OK PackageFile: vbmp_1.74.0.tar.gz PackageFileSize: 1.762 MiB