Package: vbmp Version: 1.74.0 Command: /home/biocbuild/R/R/bin/R CMD build --keep-empty-dirs --no-resave-data vbmp StartedAt: 2025-02-04 03:48:03 -0000 (Tue, 04 Feb 2025) EndedAt: 2025-02-04 03:48:50 -0000 (Tue, 04 Feb 2025) EllapsedTime: 47.1 seconds RetCode: 0 Status: OK PackageFile: vbmp_1.74.0.tar.gz PackageFileSize: 1.753 MiB