Package: vbmp
Version: 1.74.0
Command: /home/biocbuild/bbs-3.20-bioc/R/bin/R CMD check --install=check:vbmp.install-out.txt --library=/home/biocbuild/bbs-3.20-bioc/R/site-library --timings vbmp_1.74.0.tar.gz
StartedAt: 2024-11-20 11:11:32 -0500 (Wed, 20 Nov 2024)
EndedAt: 2024-11-20 11:12:05 -0500 (Wed, 20 Nov 2024)
EllapsedTime: 33.0 seconds
RetCode: 0
Status: OK
CheckDir: vbmp.Rcheck
Warnings: 0