Package: velociraptor Version: 1.16.0 Command: rm -rf velociraptor.buildbin-libdir && mkdir velociraptor.buildbin-libdir && /Users/biocbuild/BBS/utils/build-universal.sh velociraptor_1.16.0.tar.gz /Library/Frameworks/R.framework/Resources/bin/R velociraptor.buildbin-libdir StartedAt: 2025-01-31 13:54:43 -0500 (Fri, 31 Jan 2025) EndedAt: 2025-01-31 13:55:31 -0500 (Fri, 31 Jan 2025) EllapsedTime: 47.3 seconds RetCode: 0 Status: OK PackageFile: velociraptor_1.16.0.tgz PackageFileSize: 925.5 KiB