Package: velociraptor Version: 1.16.0 Command: /Library/Frameworks/R.framework/Resources/bin/R CMD INSTALL velociraptor StartedAt: 2025-02-03 16:34:38 -0500 (Mon, 03 Feb 2025) EndedAt: 2025-02-03 16:35:20 -0500 (Mon, 03 Feb 2025) EllapsedTime: 41.9 seconds RetCode: 0 Status: OK