Package: velociraptor Version: 1.16.0 Command: /home/biocbuild/bbs-3.20-bioc/R/bin/R CMD build --keep-empty-dirs --no-resave-data --md5 velociraptor StartedAt: 2025-02-03 19:45:55 -0500 (Mon, 03 Feb 2025) EndedAt: 2025-02-03 19:47:26 -0500 (Mon, 03 Feb 2025) EllapsedTime: 91.1 seconds RetCode: 0 Status: OK PackageFile: velociraptor_1.16.0.tar.gz PackageFileSize: 816.8 KiB