Package: velociraptor Version: 1.16.0 Command: /home/biocbuild/R/R/bin/R CMD INSTALL velociraptor StartedAt: 2025-02-03 21:15:08 -0000 (Mon, 03 Feb 2025) EndedAt: 2025-02-03 21:15:31 -0000 (Mon, 03 Feb 2025) EllapsedTime: 23.2 seconds RetCode: 0 Status: OK