Package: veloviz Version: 1.12.0 Command: /home/biocbuild/bbs-3.20-bioc/R/bin/R CMD build --keep-empty-dirs --no-resave-data --md5 veloviz StartedAt: 2025-02-03 19:46:00 -0500 (Mon, 03 Feb 2025) EndedAt: 2025-02-03 19:46:18 -0500 (Mon, 03 Feb 2025) EllapsedTime: 18.0 seconds RetCode: 0 Status: OK PackageFile: veloviz_1.12.0.tar.gz PackageFileSize: 3.57 MiB