Package: veloviz Version: 1.12.0 Command: /home/biocbuild/bbs-3.20-bioc/R/bin/R CMD check --install=check:veloviz.install-out.txt --library=/home/biocbuild/bbs-3.20-bioc/R/site-library --timings veloviz_1.12.0.tar.gz StartedAt: 2025-02-04 03:32:22 -0500 (Tue, 04 Feb 2025) EndedAt: 2025-02-04 03:33:21 -0500 (Tue, 04 Feb 2025) EllapsedTime: 59.1 seconds RetCode: 0 Status: OK CheckDir: veloviz.Rcheck Warnings: 0