Package: veloviz Version: 1.12.0 Command: rm -rf veloviz.buildbin-libdir && mkdir veloviz.buildbin-libdir && F:\biocbuild\bbs-3.20-bioc\R\bin\R.exe CMD INSTALL --build --library=veloviz.buildbin-libdir veloviz_1.12.0.tar.gz StartedAt: 2025-02-04 09:44:59 -0500 (Tue, 04 Feb 2025) EndedAt: 2025-02-04 09:45:22 -0500 (Tue, 04 Feb 2025) EllapsedTime: 23.6 seconds RetCode: 0 Status: OK PackageFile: veloviz_1.12.0.zip PackageFileSize: 3.937 MiB