Package: veloviz Version: 1.12.0 Command: chmod a+r veloviz -R && F:\biocbuild\bbs-3.20-bioc\R\bin\R.exe CMD build --keep-empty-dirs --no-resave-data veloviz StartedAt: 2025-02-03 22:46:31 -0500 (Mon, 03 Feb 2025) EndedAt: 2025-02-03 22:46:59 -0500 (Mon, 03 Feb 2025) EllapsedTime: 27.8 seconds RetCode: 0 Status: OK PackageFile: veloviz_1.12.0.tar.gz PackageFileSize: 3.536 MiB