Package: veloviz Version: 1.12.0 Command: /home/biocbuild/R/R/bin/R CMD build --keep-empty-dirs --no-resave-data veloviz StartedAt: 2025-02-04 03:49:07 -0000 (Tue, 04 Feb 2025) EndedAt: 2025-02-04 03:49:40 -0000 (Tue, 04 Feb 2025) EllapsedTime: 33.1 seconds RetCode: 0 Status: OK PackageFile: veloviz_1.12.0.tar.gz PackageFileSize: 3.568 MiB