Package: vidger Version: 1.26.0 Command: /Library/Frameworks/R.framework/Resources/bin/R CMD build --keep-empty-dirs --no-resave-data vidger StartedAt: 2025-02-04 10:25:26 -0500 (Tue, 04 Feb 2025) EndedAt: 2025-02-04 10:27:31 -0500 (Tue, 04 Feb 2025) EllapsedTime: 125.0 seconds RetCode: 0 Status: OK PackageFile: vidger_1.26.0.tar.gz PackageFileSize: 8.717 MiB