Package: vidger
Version: 1.26.0
Command: /Library/Frameworks/R.framework/Resources/bin/R CMD check --install=check:vidger.install-out.txt --library=/Library/Frameworks/R.framework/Resources/library --no-vignettes --timings vidger_1.26.0.tar.gz
StartedAt: 2024-11-09 16:08:38 -0500 (Sat, 09 Nov 2024)
EndedAt: 2024-11-09 16:13:44 -0500 (Sat, 09 Nov 2024)
EllapsedTime: 306.0 seconds
RetCode: 0
Status: OK
CheckDir: vidger.Rcheck
Warnings: 0