Package: viper Version: 1.40.0 Command: rm -rf viper.buildbin-libdir && mkdir viper.buildbin-libdir && /Users/biocbuild/BBS/utils/build-universal.sh viper_1.40.0.tar.gz /Library/Frameworks/R.framework/Resources/bin/R viper.buildbin-libdir StartedAt: 2025-02-01 17:20:24 -0500 (Sat, 01 Feb 2025) EndedAt: 2025-02-01 17:20:41 -0500 (Sat, 01 Feb 2025) EllapsedTime: 16.9 seconds RetCode: 0 Status: OK PackageFile: viper_1.40.0.tgz PackageFileSize: 761.3 KiB