Package: viper Version: 1.40.0 Command: /Library/Frameworks/R.framework/Resources/bin/R CMD build --keep-empty-dirs --no-resave-data viper StartedAt: 2025-01-31 10:08:25 -0500 (Fri, 31 Jan 2025) EndedAt: 2025-01-31 10:13:02 -0500 (Fri, 31 Jan 2025) EllapsedTime: 276.5 seconds RetCode: 0 Status: OK PackageFile: viper_1.40.0.tar.gz PackageFileSize: 503.3 KiB