Package: viper Version: 1.40.0 Command: /home/biocbuild/R/R/bin/R CMD build --keep-empty-dirs --no-resave-data viper StartedAt: 2024-11-20 04:41:49 -0000 (Wed, 20 Nov 2024) EndedAt: 2024-11-20 04:46:56 -0000 (Wed, 20 Nov 2024) EllapsedTime: 306.4 seconds RetCode: 0 Status: OK PackageFile: viper_1.40.0.tar.gz PackageFileSize: 492.5 KiB