Package: viper Version: 1.40.0 Command: rm -rf viper.buildbin-libdir && mkdir viper.buildbin-libdir && /Users/biocbuild/BBS/utils/build-universal.sh viper_1.40.0.tar.gz /Library/Frameworks/R.framework/Resources/bin/R viper.buildbin-libdir StartedAt: 2025-01-31 13:55:08 -0500 (Fri, 31 Jan 2025) EndedAt: 2025-01-31 13:55:40 -0500 (Fri, 31 Jan 2025) EllapsedTime: 32.7 seconds RetCode: 0 Status: OK PackageFile: viper_1.40.0.tgz PackageFileSize: 761.5 KiB