Package: viper Version: 1.40.0 Command: /Library/Frameworks/R.framework/Resources/bin/R CMD build --keep-empty-dirs --no-resave-data viper StartedAt: 2025-01-30 23:40:28 -0500 (Thu, 30 Jan 2025) EndedAt: 2025-01-30 23:47:55 -0500 (Thu, 30 Jan 2025) EllapsedTime: 447.4 seconds RetCode: 0 Status: OK PackageFile: viper_1.40.0.tar.gz PackageFileSize: 503.3 KiB