Package: viper Version: 1.40.0 Command: /home/biocbuild/bbs-3.20-bioc/R/bin/R CMD INSTALL viper StartedAt: 2025-01-30 15:43:07 -0500 (Thu, 30 Jan 2025) EndedAt: 2025-01-30 15:43:23 -0500 (Thu, 30 Jan 2025) EllapsedTime: 16.6 seconds RetCode: 0 Status: OK